BEGIN:VCALENDAR
PRODID:PlannerXE123
VERSION:2.0
CALSCALE:GREGORIAN
METHOD:PUBLISH
BEGIN:VEVENT
DTSTART:20261023
DTEND:20261024
DTSTAMP:20260423T093917Z
UID:(regia.or.kr_24855)
CREATED:20260423T093917Z
DESCRIPTION:장소 : 미정.\n\n<a href="http://regia.or.kr/xe/board_MCoP35/24855?document_srl=24855&document_srl=24855">원본일정</a>
LOCATION:
SEQUENCE:1
STATUS:CONFIRMED
SUMMARY:명예기자 연수
TRANSP:TRANSPARENT
END:VEVENT
END:VCALENDAR
