BEGIN:VCALENDAR
PRODID:PlannerXE123
VERSION:2.0
CALSCALE:GREGORIAN
METHOD:PUBLISH
BEGIN:VEVENT
DTSTART:20261004T140000Z
DTEND:20261004T160000Z
DTSTAMP:20260423T081106Z
UID:(regia.or.kr_24854)
CREATED:20260423T081106Z
DESCRIPTION:장소 : 교구청 1층 대회의실\n\n<a href="http://regia.or.kr/xe/board_MCoP35/24854?document_srl=24854&document_srl=24854">원본일정</a>
LOCATION:
SEQUENCE:1
STATUS:CONFIRMED
SUMMARY:10월 레지아 평의회
TRANSP:TRANSPARENT
END:VEVENT
END:VCALENDAR
