BEGIN:VCALENDAR
PRODID:PlannerXE123
VERSION:2.0
CALSCALE:GREGORIAN
METHOD:PUBLISH
BEGIN:VEVENT
DTSTART:20260913T093000Z
DTEND:20260913T160000Z
DTSTAMP:20260423T081026Z
UID:(regia.or.kr_24853)
CREATED:20260423T081026Z
DESCRIPTION:장소 : 교육관\n\n<a href="http://regia.or.kr/xe/board_MCoP35/24853?iCal=ics_event&document_srl=24853">원본일정</a>
LOCATION:
SEQUENCE:1
STATUS:CONFIRMED
SUMMARY:단원 소양 교육
TRANSP:TRANSPARENT
END:VEVENT
END:VCALENDAR
