BEGIN:VCALENDAR
PRODID:PlannerXE123
VERSION:2.0
CALSCALE:GREGORIAN
METHOD:PUBLISH
BEGIN:VEVENT
DTSTART:20260911
DTEND:20260912
DTSTAMP:20260423T081008Z
UID:(regia.or.kr_24852)
CREATED:20260423T081008Z
DESCRIPTION:장소 : 서울 Se.\n\n<a href="http://regia.or.kr/xe/board_MCoP35/24852?iCal=ics_event&document_srl=24852">원본일정</a>
LOCATION:
SEQUENCE:1
STATUS:CONFIRMED
SUMMARY:월간 레지오 임시총회
TRANSP:TRANSPARENT
END:VEVENT
END:VCALENDAR
