BEGIN:VCALENDAR
PRODID:PlannerXE123
VERSION:2.0
CALSCALE:GREGORIAN
METHOD:PUBLISH
BEGIN:VEVENT
DTSTART:20260906T140000Z
DTEND:20260906T160000Z
DTSTAMP:20260423T094119Z
UID:(regia.or.kr_24851)
CREATED:20260423T094119Z
DESCRIPTION:장소 : 교구청 1층 대회의실\n\n<a href="http://regia.or.kr/xe/board_MCoP35/24851?device=big_size&document_srl=24851">원본일정</a>
LOCATION:
SEQUENCE:1
STATUS:CONFIRMED
SUMMARY:9월 레지아 평의회
TRANSP:TRANSPARENT
END:VEVENT
END:VCALENDAR
