BEGIN:VCALENDAR
PRODID:PlannerXE123
VERSION:2.0
CALSCALE:GREGORIAN
METHOD:PUBLISH
BEGIN:VEVENT
DTSTART:20260821
DTEND:20260822
DTSTAMP:20260423T094120Z
UID:(regia.or.kr_24850)
CREATED:20260423T094120Z
DESCRIPTION:장소 : 목포성지\n\n<a href="http://regia.or.kr/xe/board_MCoP35/24850?document_srl=24850&document_srl=24850">원본일정</a>
LOCATION:
SEQUENCE:1
STATUS:CONFIRMED
SUMMARY:광주Se. 직속 Re.간부 연수회
TRANSP:TRANSPARENT
END:VEVENT
END:VCALENDAR
