BEGIN:VCALENDAR
PRODID:PlannerXE123
VERSION:2.0
CALSCALE:GREGORIAN
METHOD:PUBLISH
BEGIN:VEVENT
DTSTART:20260802T140000Z
DTEND:20260802T160000Z
DTSTAMP:20260423T093941Z
UID:(regia.or.kr_24849)
CREATED:20260423T093941Z
DESCRIPTION:장소 : 교구청 1층 대회의실\n\n<a href="http://regia.or.kr/xe/board_MCoP35/24849?document_srl=24849&document_srl=24849">원본일정</a>
LOCATION:
SEQUENCE:1
STATUS:CONFIRMED
SUMMARY:8월 레지아 평의회
TRANSP:TRANSPARENT
END:VEVENT
END:VCALENDAR
