BEGIN:VCALENDAR
PRODID:PlannerXE123
VERSION:2.0
CALSCALE:GREGORIAN
METHOD:PUBLISH
BEGIN:VEVENT
DTSTART:20260719T090000Z
DTEND:20260719T160000Z
DTSTAMP:20260423T081014Z
UID:(regia.or.kr_24847)
CREATED:20260423T081014Z
DESCRIPTION:장소 : 가톨릭 교육관 입니다.\n\n<a href="http://regia.or.kr/xe/board_MCoP35/24847?iCal=ics_event&document_srl=24847">원본일정</a>
LOCATION:
SEQUENCE:1
STATUS:CONFIRMED
SUMMARY:Co. 및 Cu. 단장 연수회
TRANSP:TRANSPARENT
END:VEVENT
END:VCALENDAR
