BEGIN:VCALENDAR
PRODID:PlannerXE123
VERSION:2.0
CALSCALE:GREGORIAN
METHOD:PUBLISH
BEGIN:VEVENT
DTSTART:20260621T100000Z
DTEND:20260621T130000Z
DTSTAMP:20260423T094104Z
UID:(regia.or.kr_24846)
CREATED:20260423T094104Z
DESCRIPTION:장소 : 교구청 2층 4회의실\n\n<a href="http://regia.or.kr/xe/board_MCoP35/24846?device=big_size&document_srl=24846">원본일정</a>
LOCATION:
SEQUENCE:1
STATUS:CONFIRMED
SUMMARY:소년Pr.지도자 간담회
TRANSP:TRANSPARENT
END:VEVENT
END:VCALENDAR
