BEGIN:VCALENDAR
PRODID:PlannerXE123
VERSION:2.0
CALSCALE:GREGORIAN
METHOD:PUBLISH
BEGIN:VEVENT
DTSTART:20260611T093000Z
DTEND:20260611T130000Z
DTSTAMP:20260423T081017Z
UID:(regia.or.kr_24844)
CREATED:20260423T081017Z
DESCRIPTION:장소는 문화원입니다.\n\n<a href="http://regia.or.kr/xe/board_MCoP35/24844?iCal=ics_event&document_srl=24844">원본일정</a>
LOCATION:
SEQUENCE:1
STATUS:CONFIRMED
SUMMARY:지도수녀님 간담회
TRANSP:TRANSPARENT
END:VEVENT
END:VCALENDAR
