BEGIN:VCALENDAR
PRODID:PlannerXE123
VERSION:2.0
CALSCALE:GREGORIAN
METHOD:PUBLISH
BEGIN:VEVENT
DTSTART:20260315T093000Z
DTEND:20260315T161000Z
DTSTAMP:20260423T104017Z
UID:(regia.or.kr_24821)
CREATED:20260423T104017Z
DESCRIPTION:찬미예수님!! 3월 15일 단원 소양 교육 일정표입니다\n\n<a href="http://regia.or.kr/xe/board_MCoP35/24821?device=big_size&document_srl=24821">원본일정</a>
LOCATION:
SEQUENCE:1
STATUS:CONFIRMED
SUMMARY:단원소양교육
TRANSP:TRANSPARENT
END:VEVENT
END:VCALENDAR
