BEGIN:VCALENDAR
PRODID:PlannerXE123
VERSION:2.0
CALSCALE:GREGORIAN
METHOD:PUBLISH
BEGIN:VEVENT
DTSTART:20260530
DTEND:20260531
DTSTAMP:20260423T104056Z
UID:(regia.or.kr_24796)
CREATED:20260423T104056Z
DESCRIPTION:1박2일 침묵피정-성심원\n\n<a href="http://regia.or.kr/xe/board_MCoP35/24796?device=big_size&document_srl=24796">원본일정</a>
LOCATION:
SEQUENCE:1
STATUS:CONFIRMED
SUMMARY:침묵피정1박2일-성심원
TRANSP:TRANSPARENT
END:VEVENT
END:VCALENDAR
