BEGIN:VCALENDAR
PRODID:PlannerXE123
VERSION:2.0
CALSCALE:GREGORIAN
METHOD:PUBLISH
BEGIN:VEVENT
DTSTART:20260503T140000Z
DTEND:20260503T160000Z
DTSTAMP:20260423T101355Z
UID:(regia.or.kr_24794)
CREATED:20260423T101355Z
DESCRIPTION:교구청 1층 대강당\n\n<a href="http://regia.or.kr/xe/board_MCoP35/24794?device=big_size&document_srl=24794">원본일정</a>
LOCATION:
SEQUENCE:1
STATUS:CONFIRMED
SUMMARY:5월레지아평의회
TRANSP:TRANSPARENT
END:VEVENT
END:VCALENDAR
