BEGIN:VCALENDAR
PRODID:PlannerXE123
VERSION:2.0
CALSCALE:GREGORIAN
METHOD:PUBLISH
BEGIN:VEVENT
DTSTART:20260424
DTEND:20260425
DTSTAMP:20260423T071137Z
UID:(regia.or.kr_24793)
CREATED:20260423T071137Z
DESCRIPTION:1박2일 전국 교구 간부 연수-교육관\n\n<a href="http://regia.or.kr/xe/board_MCoP35/24793?document_srl=24793&document_srl=24793">원본일정</a>
LOCATION:
SEQUENCE:1
STATUS:CONFIRMED
SUMMARY:전국교구간부연수-교육관 1박2일
TRANSP:TRANSPARENT
END:VEVENT
END:VCALENDAR
