BEGIN:VCALENDAR
PRODID:PlannerXE123
VERSION:2.0
CALSCALE:GREGORIAN
METHOD:PUBLISH
BEGIN:VEVENT
DTSTART:20260419T090000Z
DTEND:20260419T160000Z
DTSTAMP:20260423T034909Z
UID:(regia.or.kr_24791)
CREATED:20260423T034909Z
DESCRIPTION:교육관\n\n<a href="http://regia.or.kr/xe/board_MCoP35/24791?document_srl=24791&document_srl=24791">원본일정</a>
LOCATION:
SEQUENCE:1
STATUS:CONFIRMED
SUMMARY:신임간부직책교육
TRANSP:TRANSPARENT
END:VEVENT
END:VCALENDAR
