BEGIN:VCALENDAR
PRODID:PlannerXE123
VERSION:2.0
CALSCALE:GREGORIAN
METHOD:PUBLISH
BEGIN:VEVENT
DTSTART:20260320
DTEND:20260321
DTSTAMP:20260423T101355Z
UID:(regia.or.kr_24788)
CREATED:20260423T101355Z
DESCRIPTION:1박2일 단장 정기총회-목포성지\n\n<a href="http://regia.or.kr/xe/board_MCoP35/24788?device=big_size&document_srl=24788">원본일정</a>
LOCATION:
SEQUENCE:1
STATUS:CONFIRMED
SUMMARY:월간레지오정기총회1박2일
TRANSP:TRANSPARENT
END:VEVENT
END:VCALENDAR
