BEGIN:VCALENDAR
PRODID:PlannerXE123
VERSION:2.0
CALSCALE:GREGORIAN
METHOD:PUBLISH
BEGIN:VEVENT
DTSTART:20260301T140000Z
DTEND:20260301T160000Z
DTSTAMP:20260423T101355Z
UID:(regia.or.kr_24785)
CREATED:20260423T101355Z
DESCRIPTION:3월 레지아 평의회-교구청 대강당\n\n<a href="http://regia.or.kr/xe/board_MCoP35/24785?document_srl=24785&document_srl=24785">원본일정</a>
LOCATION:
SEQUENCE:1
STATUS:CONFIRMED
SUMMARY:3월 레지아 평의회
TRANSP:TRANSPARENT
END:VEVENT
END:VCALENDAR
