BEGIN:VCALENDAR
PRODID:PlannerXE123
VERSION:2.0
CALSCALE:GREGORIAN
METHOD:PUBLISH
BEGIN:VEVENT
DTSTART:20260201T140000Z
DTEND:20260201T160000Z
DTSTAMP:20260423T084430Z
UID:(regia.or.kr_24783)
CREATED:20260423T084430Z
DESCRIPTION:2월 마산레지아 평의회-교구청 대강당\n\n<a href="http://regia.or.kr/xe/board_MCoP35/24783?iCal=ics_event&document_srl=24783">원본일정</a>
LOCATION:
SEQUENCE:1
STATUS:CONFIRMED
SUMMARY:2월평의회
TRANSP:TRANSPARENT
END:VEVENT
END:VCALENDAR
