BEGIN:VCALENDAR
PRODID:PlannerXE123
VERSION:2.0
CALSCALE:GREGORIAN
METHOD:PUBLISH
BEGIN:VEVENT
DTSTART:20260104T140000Z
DTEND:20260104T163000Z
DTSTAMP:20260423T122034Z
UID:(regia.or.kr_24773)
CREATED:20260423T122034Z
DESCRIPTION:1월 레지아 평의회입니다\n\n<a href="http://regia.or.kr/xe/board_MCoP35/24773?document_srl=24773&document_srl=24773">원본일정</a>
LOCATION:
SEQUENCE:1
STATUS:CONFIRMED
SUMMARY:1월 평의회
TRANSP:TRANSPARENT
END:VEVENT
END:VCALENDAR
